Workbook
Name \a: #REF!
Name \C: #REF!
Name \E: #REF!
Name \F: #REF!
Name \G: #REF!
Name \H: #REF!
Name \I: #REF!
Name \J: #REF!
Name \K: #REF!
Name \L: #REF!
Name \M: #REF!
Name \N: #REF!
Name \O: #REF!
Name \P: #REF!
Name \pe: #REF!
Name \Q: #REF!
Name \R: #REF!
Name \s: #REF!
Name \t: #REF!
Name \z: #REF!
Name ___A70000: #REF!
Name __A70000: #REF!
Name _1: #REF!
Name _10: #REF!
Name _11: #REF!
Name _2: #REF!
Name _3: #REF!
Name _4: #REF!
Name _5: #REF!
Name _6: #REF!
Name _7: #REF!
Name _A70000: #REF!
Name _Key1: #REF!
Name _Key2: #REF!
Name _LHA2: #REF!
Name _LHA3: #REF!
Name _LHB2: #REF!
Name _LHB3: #REF!
Name _LPS2: #REF!
Name _LPS3: #REF!
Name _MOD12: #N/A
Name _Order1: 0
Name _Order2: 255
Name _R22_2: #REF!
Name _R55_3: #REF!
Name _RHA2: #REF!
Name _RHA3: #REF!
Name _RHB2: #REF!
Name _RHB3: #REF!
Name _RPS2: #REF!
Name _RPS3: #REF!
Name _sig1: #REF!
Name _sig2: #REF!
Name _Sort: #REF!
Name _SUR01: #REF!
Name _SUR02: #REF!
Name _SUR03: #REF!
Name _SUR04: #REF!
Name _SUR05: #REF!
Name _SUR06: #REF!

Sheet Чек-лист 5С
A3: Чек-лист проверки рабочих мест на соответствие требованиям системы 5С
A4: Дата________________________
A5: Цех, участок_________________
A7: № п/п | B7: Критерии оценки | C7: Участок №
C8: 1 | D8: 2 | E8: 3
A9: 1С: Сортировка
A10: 1 | B10: На рабочем месте отсутствуют ненужные, неисправные предметы (инструмент, оснастка и др.) | C10: 1 | D10: 1 | E10: 1
A11: 2 | B11: На оборудовании и шкафах отсутствуют посторонние предметы | C11: 1 | E11: 1
A12: 3 | B12: Определена зона "красных ярлыков", имеется журнал, в журнале нет записей без решения позднее 1-го месяца с момента оформления. | C12: 1 | D12: 1
A13: 4 | B13: Доступ к материалам и инструменту не затруднен | C13: 1 | D13: 1
A14: 5 | B14: Отсутствует неактуальная документация (устаревшая, не относящаяся к производственному процессу) на рабочих местах и на участке в целом.
A15: 1С | B15: итого баллов | C15: =SUM(C10:C14) -> 4 | D15: =SUM(D10:D14) -> 3 | E15: =SUM(E10:E14) -> 2
A16: 2С: Соблюдение порядка
A17: 1 | B17: Все предметы, находящиеся на стеллажах и в тумбочках, расположены и визуализированы так, что их легко брать и возвращать на место. | C17: 1 | D17: 1 | E17: 1
A18: 2 | B18: Определены, визуализированы и соблюдаются места хранения средств индивидуальной защиты, средств пожарной безопасности, места для хозинвентаря. Имеется наглядная агитация по технике безопасности и охране труда | D18: 1 | E18: 1
A19: 3 | B19: На участке имеется планировка с обозначенными рабочими местами, местами складирования, пешеходными и транспортными зонами, материальными потоками основных продуктов участка.* | C19: 1
A20: 4 | B20: Проходы, проезды, рабочие зоны, зоны хранения и опасные участки четко обозначены. Разметка соответствует стандартам предприятия. | C20: 1 | E20: 1
A21: 5 | B21: Проходы к пожарным постам, эвакуационным выходам не загромождены и визуализированы.
A22: 2С | B22: итого баллов | C22: =SUM(C16:C21) -> 3 | D22: =SUM(D16:D21) -> 2 | E22: =SUM(E16:E21) -> 3
A23: 3С: Содержание в чистоте
A24: 1 | B24: Средства для уборки имеются в наличии. Они доступны. | C24: 1 | D24: 1
A25: 2 | B25: Оборудование чистое (застарелые загрязнения отсутствуют). Графики чистки оборудования соблюдаются. | C25: 1 | E25: 1
A26: 3 | B26: Рабочие зоны, производственная мебель, оснастка, комплектация, тара, места расположения предметов, включая труднодоступные, места находятся в чистоте (застарелые загрязнения отсутствуют). | C26: 1 | E26: 1
A27: 4 | B27: Контрольно-измерительные приборы исправны, загрязнения отсутствуют. | C27: 1
A28: 5 | B28: Напольное покрытие, разметка находятся в чистоте (застарелые загрязнения отсутствуют). | D28: 1
A29: 3С | B29: итого баллов | C29: =SUM(C23:C28) -> 4 | D29: =SUM(D23:D28) -> 2 | E29: =SUM(E23:E28) -> 2
A30: 4С: Стандартизация
A31: 1 | B31: На рабочем месте размещен график уборки рабочего места. График уборки соблюдается. | C31: 1 | D31: 1 | E31: 1
A32: 2 | B32: Имеется схема рабочего места. Объекты рабочего места соответствуют схеме. | C32: 1 | D32: 1 | E32: 1
A33: 3 | B33: На рабочем месте имеется стандарт рабочего места, он актуален и соблюдается | C33: 1 | D33: 1
A34: 4 | B34: На рабочем месте имеются стандартные операционные карты (выписки из тех.процесса). Правила выполнения операций понятны и доступны, все опасные операции идентифицированы. | D34: 1
A35: 5 | B35: На рабочих местах размещены инструкции по ОТ, они актуальны и соблюдаются. | E35: 1
A36: 4С | B36: итого баллов | C36: =SUM(C30:C35) -> 3 | D36: =SUM(D30:D35) -> 4 | E36: =SUM(E30:E35) -> 3
A37: 5С: Совершенствование
A38: 1 | B38: На участке размещен стенд с информацией о системе 5С (чек-лист мониторинга 5С в динамике, график аудита 5С актуальны на дату проверки) | C38: 1
A39: 2 | B39: Работники участка предлагают и внедряют мероприятия по совершенствованию рабочих мест. | C39: 1
A40: 3 | B40: Организована система еженедельного контроля поддержания системы 5С проводятся, результаты размещены на участке. | C40: 1 | E40: 1
A41: 4 | B41: По результатам предыдущего аудита разработан план мероприятий, мероприятия внедрены
A42: 5 | B42: На участке размещены примеры улучшений "было-стало"
A43: 5С | B43: итого баллов | C43: =SUM(C37:C42) -> 3 | D43: =SUM(D37:D42) -> 0 | E43: =SUM(E37:E42) -> 1
...

Sheet Сводные результаты по подразд
B3: Аудит внедрения системы 5С в стр. подр.:
B4: Объект (участок, цех, территория, офис) аудита:
B5: Аудит проведен (Ф.И.О.)
B6: Дата аудита:
C9: Форма отчета по результатам аудита 5С:
B10: Степень реализации шагов системы 5С
B12: Месяц | C12: Январь | D12: Февраль | E12: Март | F12: Апрель | G12: Май | H12: Июнь | I12: Июль | J12: Август | K12: Сентябрь | L12: Октябрь | M12: Ноябрь | N12: Декабрь
B13: План, % | C13: 0.3 | D13: 0.35 | E13: 0.4 | F13: 0.45 | G13: 0.5 | H13: 0.55 | I13: 0.6 | J13: 0.6 | K13: 0.6 | L13: 0.6 | M13: 0.6 | N13: 0.7
B14: Факт, % | C14: =IFERROR(AVERAGE(C15:C19),"") -> 0.6 | D14: =IFERROR(AVERAGE(D15:D19),"") -> 0.45 | E14: =IFERROR(AVERAGE(E15:E19),"") -> 0.38 | F14: =IFERROR(AVERAGE(F15:F19),"") -> 0.3 | G14: =IFERROR(AVERAGE(G15:G19),"") -> 0.44666667 | I14: =IFERROR(AVERAGE(I15:I19),"") | J14: =IFERROR(AVERAGE(J15:J19),"") | K14: =IFERROR(AVERAGE(K15:K19),"") | L14: =IFERROR(AVERAGE(L15:L19),"") | M14: =IFERROR(AVERAGE(M15:M19),"") | N14: =IFERROR(AVERAGE(N15:N19),"")
B15: Сортировка | C15: 0.6 | D15: 0.45 | E15: 0.3 | F15: 0.3 | G15: ='Данные для диаграмм'!B2 -> 0.6
B16: Соблюдение порядка | C16: 0.6 | D16: 0.45 | E16: 0.6 | F16: 0.3 | G16: ='Данные для диаграмм'!B3 -> 0.4
B17: Содержание в чистоте | C17: 0.6 | D17: 0.45 | E17: 0.45 | F17: 0.3 | G17: ='Данные для диаграмм'!B4 -> 0.53333333
B18: Стандартизация | C18: 0.6 | D18: 0.45 | E18: 0.35 | F18: 0.3 | G18: ='Данные для диаграмм'!B5 -> 0.5
B19: Совершенствование | C19: 0.6 | D19: 0.45 | E19: 0.2 | F19: 0.3 | G19: ='Данные для диаграмм'!B6 -> 0.2
B22: Работа завершена | D22: 1
B23: Сделан большой объем работы | D23: 0.9
D24: 0.8
D25: 0.7
B26: Работа проделана частично | D26: 0.6
D27: 0.5
B28: Работа на начальной стадии | D28: 0.4
D29: 0.3
D30: 0.2
D31: 0.1
B32: Работа не начата | D32: 0
E33: *Заполняется ежемесячно, после проведения аудита по 5С
Q35: =C12 -> Январь | R35: =D12 -> Февраль | S35: =E12 -> Март | T35: =F12 -> Апрель | U35: =G12 -> Май | V35: =H12 -> Июнь | W35: =I12 -> Июль | X35: =J12 -> Август | ... AB35: =N12 -> Декабрь
P36: План, % | Q36: =C13 -> 0.3 | R36: =D13 -> 0.35 | S36: =E13 -> 0.4 | T36: =F13 -> 0.45 | U36: =G13 -> 0.5 | V36: =H13 -> 0.55 | W36: =I13 -> 0.6 | X36: =J13 -> 0.6 | ... AB36: =N13 -> 0.7
O37: хорошо | P37: факт% | Q37: =IF(C14>=C13,C14,0) -> 0.6 | R37: =IF(D14>=D13,D14,0) -> 0.45 | S37: =IF(E14>=E13,E14,0) -> 0 | T37: =IF(F14>=F13,F14,0) -> 0 | U37: =IF(G14>=G13,G14,0) -> 0 | V37: =IF(H14>=H13,H14,0) -> 0 | W37: =IF(I14>=I13,I14,0) | X37: =IF(J14>=J13,J14,0) | ... AB37: =IF(N14>=N13,N14,0)
O38: плохо | P38: факт | Q38: =IF(C14>=C13,0,C14) -> 0 | R38: =IF(D14>=D13,0,D14) -> 0 | S38: =IF(E14>=E13,0,E14) -> 0.38 | T38: =IF(F14>=F13,0,F14) -> 0.3 | U38: =IF(G14>=G13,0,G14) -> 0.44666667 | V38: =IF(H14>=H13,0,H14) -> 0 | W38: =IF(I14>=I13,0,I14) -> 0 | X38: =IF(J14>=J13,0,J14) -> 0 | ... AB38: =IF(N14>=N13,0,N14) -> 0
P39: =TEXT(TODAY()-30,"ММММ") -> Май | Q39: Цель
O40: Сортировка | P40: =HLOOKUP($P$39,$C$12:$N$20,4,0) -> 0.6 | Q40: =HLOOKUP($P$39,$C$12:$N$20,2,0) -> 0.5
O41: Соблюдение порядка | P41: =HLOOKUP($P$39,$C$12:$N$20,5,0) -> 0.4 | Q41: =HLOOKUP($P$39,$C$12:$N$20,2,0) -> 0.5
O42: Содержание в чистоте | P42: =HLOOKUP($P$39,$C$12:$N$20,6,0) -> 0.53333333 | Q42: =HLOOKUP($P$39,$C$12:$N$20,2,0) -> 0.5
O43: Стандартизация | P43: =HLOOKUP($P$39,$C$12:$N$20,7,0) -> 0.5 | Q43: =HLOOKUP($P$39,$C$12:$N$20,2,0) -> 0.5
O44: Совершенствование | P44: =HLOOKUP($P$39,$C$12:$N$20,8,0) -> 0.2 | Q44: =HLOOKUP($P$39,$C$12:$N$20,2,0) -> 0.5

Sheet Форма отчета_сводная
A1: Форма отчета по результатам аудита 5С:
A2: Аудит внедрения системы 5С в стр. подр.:
A3: Объект (участок, цех, территория, офис) аудита:
A4: Аудит проведен (Ф.И.О.)
A5: Дата аудита:
A6: Степень реализации шагов системы 5С
F7: Оценка % Радарная диаграмма внедрения шагов системы 5С
A8: Работа завершена | D8: 1
A9: Сделан большой объем работы | D9: 0.9
D10: 0.8
D11: 0.7
A12: Работа проделана частично | D12: 0.6
D13: 0.5
A14: Работа на начальной стадии | D14: 0.4
D15: 0.3
D16: 0.2
D17: 0.1
A18: Работа не начата | D18: 0
A19: Название шага | F19: СОРТИРОВКА | I19: РАЦИОНАЛЬНОЕ РАСПОЛОЖЕНИЕ | L19: ЧИСТКА/УБОРКА | O19: СТАНДАРТИЗАЦИЯ | R19: СОВЕРШЕНСТВОВАНИЕ | U19: ИТОГОВЫЕ ДАННЫЕ
A21: № шага | F21: ШАГ№1 | I21: ШАГ№2 | L21: ШАГ№3 | O21: ШАГ№4 | R21: ШАГ№5 | U21: ОБЩИЙ %
A23: Баллы (%) | F23: =SUM('Чек-лист 5С'!15:15)/(MAX('Чек-лист 5С'!8:8)*5) -> 0.6 | I23: =SUM('Чек-лист 5С'!22:22)/(MAX('Чек-лист 5С'!8:8)*5) -> 0.53333333 | L23: =SUM('Чек-лист 5С'!29:29)/(MAX('Чек-лист 5С'!8:8)*5) -> 0.53333333 | O23: =SUM('Чек-лист 5С'!36:36)/(MAX('Чек-лист 5С'!8:8)*5) -> 0.66666667 | R23: =SUM('Чек-лист 5С'!43:43)/(MAX('Чек-лист 5С'!8:8)*5) -> 0.26666667 | U23: =(SUM('Чек-лист 5С'!15:15)+SUM('Чек-лист 5С'!22:22)+SUM('Чек-лист 5С'!29:29)+SUM('Чек-лист 5С'!36:36)+SUM('Чек-лист 5С'!43:43))/(MAX('Чек-лист 5С'!8:8)*25) -> 0.52

Sheet Диаграммы_по участкам

Sheet Данные для диаграмм
B1: Факт, % | C1: ='Чек-лист 5С'!C$8 -> 1 | D1: ='Чек-лист 5С'!D$8 -> 2 | E1: ='Чек-лист 5С'!E$8 -> 3
A2: 1С | B2: =SUM(C2:R2)/5/MAX(C1:R1) -> 0.6 | C2: =INDEX('Чек-лист 5С'!$1:$1048576,MATCH($A2,'Чек-лист 5С'!$A:$A,0),MATCH(C$1,'Чек-лист 5С'!$8:$8,0)) -> 4 | D2: =INDEX('Чек-лист 5С'!$1:$1048576,MATCH($A2,'Чек-лист 5С'!$A:$A,0),MATCH(D$1,'Чек-лист 5С'!$8:$8,0)) -> 3 | E2: =INDEX('Чек-лист 5С'!$1:$1048576,MATCH($A2,'Чек-лист 5С'!$A:$A,0),MATCH(E$1,'Чек-лист 5С'!$8:$8,0)) -> 2
A3: 2С | B3: =SUM(C3:R3)/5/MAX(C2:R2) -> 0.4 | C3: =INDEX('Чек-лист 5С'!$1:$1048576,MATCH($A3,'Чек-лист 5С'!$A:$A,0),MATCH(C$1,'Чек-лист 5С'!$8:$8,0)) -> 3 | D3: =INDEX('Чек-лист 5С'!$1:$1048576,MATCH($A3,'Чек-лист 5С'!$A:$A,0),MATCH(D$1,'Чек-лист 5С'!$8:$8,0)) -> 2 | E3: =INDEX('Чек-лист 5С'!$1:$1048576,MATCH($A3,'Чек-лист 5С'!$A:$A,0),MATCH(E$1,'Чек-лист 5С'!$8:$8,0)) -> 3
A4: 3С | B4: =SUM(C4:R4)/5/MAX(C3:R3) -> 0.53333333 | C4: =INDEX('Чек-лист 5С'!$1:$1048576,MATCH($A4,'Чек-лист 5С'!$A:$A,0),MATCH(C$1,'Чек-лист 5С'!$8:$8,0)) -> 4 | D4: =INDEX('Чек-лист 5С'!$1:$1048576,MATCH($A4,'Чек-лист 5С'!$A:$A,0),MATCH(D$1,'Чек-лист 5С'!$8:$8,0)) -> 2 | E4: =INDEX('Чек-лист 5С'!$1:$1048576,MATCH($A4,'Чек-лист 5С'!$A:$A,0),MATCH(E$1,'Чек-лист 5С'!$8:$8,0)) -> 2
A5: 4С | B5: =SUM(C5:R5)/5/MAX(C4:R4) -> 0.5 | C5: =INDEX('Чек-лист 5С'!$1:$1048576,MATCH($A5,'Чек-лист 5С'!$A:$A,0),MATCH(C$1,'Чек-лист 5С'!$8:$8,0)) -> 3 | D5: =INDEX('Чек-лист 5С'!$1:$1048576,MATCH($A5,'Чек-лист 5С'!$A:$A,0),MATCH(D$1,'Чек-лист 5С'!$8:$8,0)) -> 4 | E5: =INDEX('Чек-лист 5С'!$1:$1048576,MATCH($A5,'Чек-лист 5С'!$A:$A,0),MATCH(E$1,'Чек-лист 5С'!$8:$8,0)) -> 3
A6: 5С | B6: =SUM(C6:R6)/5/MAX(C5:R5) -> 0.2 | C6: =INDEX('Чек-лист 5С'!$1:$1048576,MATCH($A6,'Чек-лист 5С'!$A:$A,0),MATCH(C$1,'Чек-лист 5С'!$8:$8,0)) -> 3 | D6: =INDEX('Чек-лист 5С'!$1:$1048576,MATCH($A6,'Чек-лист 5С'!$A:$A,0),MATCH(D$1,'Чек-лист 5С'!$8:$8,0)) -> 0 | E6: =INDEX('Чек-лист 5С'!$1:$1048576,MATCH($A6,'Чек-лист 5С'!$A:$A,0),MATCH(E$1,'Чек-лист 5С'!$8:$8,0)) -> 1

Sheet Пример разработки корр меропр
A1: Пример заполнения
A2: ПЛАН КОРРЕКТИРУЮЩИХ И ПРЕДУПРЕЖДАЮЩИХ МЕРОПРИЯТИЙ по несоответствиям, выявленным при проверке рабочих мест на соответствие требованиям системы 5С в цехе/участке__________ по состоянию на ________
A4: № | B4: Замечание по культуре производства | C4: Мероприятие | D4: Цель мероприятия | E4: Срок выполнения | F4: Ответственный (Ф.И.О., цех) | G4: Краткий отчет (ход выполнения; результативность)
A5: 1 | B5: Хранение полуфабрикатов на оборудование | C5: Организовать хранение полуфабрикатов на вешалах, просчитать недостающее количиство, подать заявку на изготовление | D5: Выполнение требований системы 5С | E5: 43809 | F5: Петров В.В., цех1
A6: 2 | B6: Хранение емкостей в необозначенном месте | C6: Убрать с территории цеха №2 емкости из-под отработанного масла, которых нет на плане размещения мест сбора отходов. | D6: Выполнение требований системы 5С | E6: 43796 | F6: Иванов И.И., цех 2 | G6: Выполнено
A7: 3 | B7: Отсутствие визуализации на участке окраски | C7: Визуализировать участок окраски №3 (изготовить табличку с названием участка и стенд для размещения информации для рабочих участка) | D7: Выполнение требований системы 5С | E7: 43808 | F7: Сидоров А.А., цех 3
A8: 4 | B8: Аварийное состояние тележек, стеллажей | C8: Организовать работу по ремонту стеллажей и тележек | D8: Выполнение требований системы 5С | E8: 43800 | F8: Петров В.В., цех1
A9: 5 | B9: Грязное оборудование | C9: Провести уборку приямков и чистку конвейера на 1-ом ряду оборудованя | D9: Обеспечить чистоту рабочих мест на участках в соответствии с системой 5С | E9: 43809 | F9: Сидоров А.А., цех 3
A10: 6 | B10: Нарушена целостность напольного покрытия технологическоно тоннеля между 3-м и 2-ым рядами оборудования | C10: Подготовить служебную записку в на замену металлического напольного покрытия технолонического тоннеля. | D10: Обеспечить выполнение требований ОТ иТБ | E10: 43809 | F10: Петров В.В., цех1
B12: Начальник цеха/мастер | F12: Фамилия И.О.
